BEGIN:VCALENDAR
VERSION:2.0
PRODID:-//horsealert.local//NONSGML kigkonsult.se iCalcreator 2.10.5//
CALSCALE:GREGORIAN
X-WR-TIMEZONE:Europe/Dublin
BEGIN:VTIMEZONE
TZID:Etc/GMT-1
BEGIN:STANDARD
DTSTART:20010101T000000
TZOFFSETFROM:+0100
TZOFFSETTO:+0100
TZNAME:GMT +01:00
END:STANDARD
END:VTIMEZONE
BEGIN:VEVENT
UID:20260426T015845CEST-3742DV4g6n@horsealert.local
DTSTAMP:20260425T230445Z
CATEGORIES:Horse Alerts
DESCRIPTION:Next Flamingo Park Racemeeting Monday 10 February Fm 62 Handica
 p (F & M)
DTSTART:20200203T143000
LOCATION:South Africa
SUMMARY:Horse Racing:Next Flamingo Park Racemeeting Monday 10 February Fm 6
 2 Handicap (F & M)
END:VEVENT
END:VCALENDAR
