BEGIN:VCALENDAR
VERSION:2.0
PRODID:-//horsealert.local//NONSGML kigkonsult.se iCalcreator 2.10.5//
CALSCALE:GREGORIAN
X-WR-TIMEZONE:Europe/Dublin
BEGIN:VTIMEZONE
TZID:Etc/GMT-1
BEGIN:STANDARD
DTSTART:20010101T000000
TZOFFSETFROM:+0100
TZOFFSETTO:+0100
TZNAME:GMT +01:00
END:STANDARD
END:VTIMEZONE
BEGIN:VEVENT
UID:20260426T035738CEST-8202eauTi1@horsealert.local
DTSTAMP:20260426T010438Z
CATEGORIES:Horse Alerts
DESCRIPTION:Race 6 - Allowance
DTSTART:20200207T011500
LOCATION:USA
SUMMARY:Horse Racing:Race 6 - Allowance
END:VEVENT
END:VCALENDAR
