BEGIN:VCALENDAR
VERSION:2.0
PRODID:-//horsealert.local//NONSGML kigkonsult.se iCalcreator 2.10.5//
CALSCALE:GREGORIAN
X-WR-TIMEZONE:Europe/Dublin
BEGIN:VTIMEZONE
TZID:Etc/GMT-1
BEGIN:STANDARD
DTSTART:20010101T000000
TZOFFSETFROM:+0100
TZOFFSETTO:+0100
TZNAME:GMT +01:00
END:STANDARD
END:VTIMEZONE
BEGIN:VEVENT
UID:20260426T035620CEST-8851uIMRZH@horsealert.local
DTSTAMP:20260426T010420Z
CATEGORIES:Horse Alerts
DESCRIPTION:SA Derby 4 April Mr 83 Handicap
DTSTART:20200210T124000
LOCATION:South Africa
SUMMARY:Horse Racing:SA Derby 4 April Mr 83 Handicap
END:VEVENT
END:VCALENDAR
