BEGIN:VCALENDAR
VERSION:2.0
PRODID:-//horsealert.local//NONSGML kigkonsult.se iCalcreator 2.10.5//
CALSCALE:GREGORIAN
X-WR-TIMEZONE:Europe/Dublin
BEGIN:VTIMEZONE
TZID:Etc/GMT-1
BEGIN:STANDARD
DTSTART:20010101T000000
TZOFFSETFROM:+0100
TZOFFSETTO:+0100
TZNAME:GMT +01:00
END:STANDARD
END:VTIMEZONE
BEGIN:VEVENT
UID:20260426T015843CEST-4698H0lRln@horsealert.local
DTSTAMP:20260425T230443Z
CATEGORIES:Horse Alerts
DESCRIPTION:Racing Post GoNorth Weekend 20-22 March Novices' Handicap Chase
DTSTART:20200218T143000
LOCATION:Scotland
SUMMARY:Horse Racing:Racing Post GoNorth Weekend 20-22 March Novices' Handi
 cap Chase
END:VEVENT
END:VCALENDAR
