BEGIN:VCALENDAR
VERSION:2.0
PRODID:-//horsealert.local//NONSGML kigkonsult.se iCalcreator 2.10.5//
CALSCALE:GREGORIAN
X-WR-TIMEZONE:Europe/Dublin
BEGIN:VTIMEZONE
TZID:Etc/GMT-1
BEGIN:STANDARD
DTSTART:20010101T000000
TZOFFSETFROM:+0100
TZOFFSETTO:+0100
TZNAME:GMT +01:00
END:STANDARD
END:VTIMEZONE
BEGIN:VEVENT
UID:20260426T015603CEST-3948jnJ9vB@horsealert.local
DTSTAMP:20260425T230403Z
CATEGORIES:Horse Alerts
DESCRIPTION:Paddy Power 'From The Horse's Mouth' Handicap Hurdle (80-116)
DTSTART:20200223T164000
LOCATION:Eire
SUMMARY:Horse Racing:Paddy Power 'From The Horse's Mouth' Handicap Hurdle (
 80-116)
END:VEVENT
END:VCALENDAR
