BEGIN:VCALENDAR
VERSION:2.0
PRODID:-//horsealert.local//NONSGML kigkonsult.se iCalcreator 2.10.5//
CALSCALE:GREGORIAN
X-WR-TIMEZONE:Europe/Dublin
BEGIN:VTIMEZONE
TZID:Etc/GMT-1
BEGIN:STANDARD
DTSTART:20010101T000000
TZOFFSETFROM:+0100
TZOFFSETTO:+0100
TZNAME:GMT +01:00
END:STANDARD
END:VTIMEZONE
BEGIN:VEVENT
UID:20260426T054257CEST-2356jalv1V@horsealert.local
DTSTAMP:20260426T030457Z
CATEGORIES:Horse Alerts
DESCRIPTION:Book Tickets On-Line At wetherbyracing.co.uk Novices' Handicap 
 Chase
DTSTART:20200302T143500
LOCATION:England
SUMMARY:Horse Racing:Book Tickets On-Line At wetherbyracing.co.uk Novices' 
 Handicap Chase
END:VEVENT
END:VCALENDAR
