BEGIN:VCALENDAR
VERSION:2.0
PRODID:-//horsealert.local//NONSGML kigkonsult.se iCalcreator 2.10.5//
CALSCALE:GREGORIAN
X-WR-TIMEZONE:Europe/Dublin
BEGIN:VTIMEZONE
TZID:Etc/GMT-1
BEGIN:STANDARD
DTSTART:20010101T000000
TZOFFSETFROM:+0100
TZOFFSETTO:+0100
TZNAME:GMT +01:00
END:STANDARD
END:VTIMEZONE
BEGIN:VEVENT
UID:20260426T015831CEST-2698rVUjop@horsealert.local
DTSTAMP:20260425T230431Z
CATEGORIES:Horse Alerts
DESCRIPTION:Race 7 - San Luis Rey Stakes (Group 3)
DTSTART:20200321T233500
LOCATION:USA
SUMMARY:Horse Racing:Race 7 - San Luis Rey Stakes (Group 3)
END:VEVENT
END:VCALENDAR
