BEGIN:VCALENDAR
VERSION:2.0
PRODID:-//horsealert.local//NONSGML kigkonsult.se iCalcreator 2.10.5//
CALSCALE:GREGORIAN
X-WR-TIMEZONE:Europe/Dublin
BEGIN:VTIMEZONE
TZID:Etc/GMT-1
BEGIN:STANDARD
DTSTART:20010101T000000
TZOFFSETFROM:+0100
TZOFFSETTO:+0100
TZNAME:GMT +01:00
END:STANDARD
END:VTIMEZONE
BEGIN:VEVENT
UID:20260426T000957CEST-9564IXdstp@horsealert.local
DTSTAMP:20260425T220457Z
CATEGORIES:Horse Alerts
DESCRIPTION:Race 9 - Bank Of America Challenge Championship Stakes (grade 2
 )
DTSTART:20200329T225800
LOCATION:USA
SUMMARY:Horse Racing:Race 9 - Bank Of America Challenge Championship Stakes
  (grade 2)
END:VEVENT
END:VCALENDAR
