BEGIN:VCALENDAR
VERSION:2.0
PRODID:-//horsealert.local//NONSGML kigkonsult.se iCalcreator 2.10.5//
CALSCALE:GREGORIAN
X-WR-TIMEZONE:Europe/Dublin
BEGIN:VTIMEZONE
TZID:Etc/GMT-1
BEGIN:STANDARD
DTSTART:20010101T000000
TZOFFSETFROM:+0100
TZOFFSETTO:+0100
TZNAME:GMT +01:00
END:STANDARD
END:VTIMEZONE
BEGIN:VEVENT
UID:20260425T151621CEST-85370axM3I@horsealert.local
DTSTAMP:20260425T130421Z
CATEGORIES:Horse Alerts
DESCRIPTION:L'Etang De Berre Maiden
DTSTART:20200601T154200
LOCATION:France
SUMMARY:Horse Racing:L'Etang De Berre Maiden
END:VEVENT
END:VCALENDAR
