BEGIN:VCALENDAR
VERSION:2.0
PRODID:-//horsealert.local//NONSGML kigkonsult.se iCalcreator 2.10.5//
CALSCALE:GREGORIAN
X-WR-TIMEZONE:Europe/Dublin
BEGIN:VTIMEZONE
TZID:Etc/GMT-1
BEGIN:STANDARD
DTSTART:20010101T000000
TZOFFSETFROM:+0100
TZOFFSETTO:+0100
TZNAME:GMT +01:00
END:STANDARD
END:VTIMEZONE
BEGIN:VEVENT
UID:20260425T165606CEST-8949xmH549@horsealert.local
DTSTAMP:20260425T140406Z
CATEGORIES:Horse Alerts
DESCRIPTION:Great Granny 90YO Margaret Conquers Mountain Handicap
DTSTART:20200630T151500
LOCATION:Scotland
SUMMARY:Horse Racing:Great Granny 90YO Margaret Conquers Mountain Handicap
END:VEVENT
END:VCALENDAR
