BEGIN:VCALENDAR
VERSION:2.0
PRODID:-//horsealert.local//NONSGML kigkonsult.se iCalcreator 2.10.5//
CALSCALE:GREGORIAN
X-WR-TIMEZONE:Europe/Dublin
BEGIN:VTIMEZONE
TZID:Etc/GMT-1
BEGIN:STANDARD
DTSTART:20010101T000000
TZOFFSETFROM:+0100
TZOFFSETTO:+0100
TZNAME:GMT +01:00
END:STANDARD
END:VTIMEZONE
BEGIN:VEVENT
UID:20260425T133210CEST-8698X88CMc@horsealert.local
DTSTAMP:20260425T110410Z
CATEGORIES:Horse Alerts
DESCRIPTION:Prix D'olonne Sur Mer - Attele
DTSTART:20200706T154500
LOCATION:France
SUMMARY:Horse Racing:Prix D'olonne Sur Mer - Attele
END:VEVENT
END:VCALENDAR
