BEGIN:VCALENDAR
VERSION:2.0
PRODID:-//horsealert.local//NONSGML kigkonsult.se iCalcreator 2.10.5//
CALSCALE:GREGORIAN
X-WR-TIMEZONE:Europe/Dublin
BEGIN:VTIMEZONE
TZID:Etc/GMT-1
BEGIN:STANDARD
DTSTART:20010101T000000
TZOFFSETFROM:+0100
TZOFFSETTO:+0100
TZNAME:GMT +01:00
END:STANDARD
END:VTIMEZONE
BEGIN:VEVENT
UID:20260425T133028CEST-5133BpMR6K@horsealert.local
DTSTAMP:20260425T110428Z
CATEGORIES:Horse Alerts
DESCRIPTION:Congratulations Brian Hughes Champion Jockey Novices' Hurdle (G
 BB Race)
DTSTART:20200721T161000
LOCATION:Scotland
SUMMARY:Horse Racing:Congratulations Brian Hughes Champion Jockey Novices' 
 Hurdle (GBB Race)
END:VEVENT
END:VCALENDAR
