BEGIN:VCALENDAR
VERSION:2.0
PRODID:-//horsealert.local//NONSGML kigkonsult.se iCalcreator 2.10.5//
CALSCALE:GREGORIAN
X-WR-TIMEZONE:Europe/Dublin
BEGIN:VTIMEZONE
TZID:Etc/GMT-1
BEGIN:STANDARD
DTSTART:20010101T000000
TZOFFSETFROM:+0100
TZOFFSETTO:+0100
TZNAME:GMT +01:00
END:STANDARD
END:VTIMEZONE
BEGIN:VEVENT
UID:20260425T133345CEST-1262V5f0Jw@horsealert.local
DTSTAMP:20260425T110445Z
CATEGORIES:Horse Alerts
DESCRIPTION:Join The New tote.co.uk Handicap Chase (GBB Race)
DTSTART:20200729T143000
LOCATION:Wales
SUMMARY:Horse Racing:Join The New tote.co.uk Handicap Chase (GBB Race)
END:VEVENT
END:VCALENDAR
