BEGIN:VCALENDAR
VERSION:2.0
PRODID:-//horsealert.local//NONSGML kigkonsult.se iCalcreator 2.10.5//
CALSCALE:GREGORIAN
X-WR-TIMEZONE:Europe/Dublin
BEGIN:VTIMEZONE
TZID:Etc/GMT-1
BEGIN:STANDARD
DTSTART:20010101T000000
TZOFFSETFROM:+0100
TZOFFSETTO:+0100
TZNAME:GMT +01:00
END:STANDARD
END:VTIMEZONE
BEGIN:VEVENT
UID:20260425T040313CEST-5210gnuoo6@horsealert.local
DTSTAMP:20260425T020413Z
CATEGORIES:Horse Alerts
DESCRIPTION:Bann Handicap Hurdle (80-95) (Div 2)
DTSTART:20200805T143000
LOCATION:Eire
SUMMARY:Horse Racing:Bann Handicap Hurdle (80-95) (Div 2)
END:VEVENT
END:VCALENDAR
