BEGIN:VCALENDAR
VERSION:2.0
PRODID:-//horsealert.local//NONSGML kigkonsult.se iCalcreator 2.10.5//
CALSCALE:GREGORIAN
X-WR-TIMEZONE:Europe/Dublin
BEGIN:VTIMEZONE
TZID:Etc/GMT-1
BEGIN:STANDARD
DTSTART:20010101T000000
TZOFFSETFROM:+0100
TZOFFSETTO:+0100
TZNAME:GMT +01:00
END:STANDARD
END:VTIMEZONE
BEGIN:VEVENT
UID:20260425T053124CEST-2074PPEM1H@horsealert.local
DTSTAMP:20260425T030424Z
CATEGORIES:Horse Alerts
DESCRIPTION:Follow BetVictor Racing On Twitter Fillies' Novice Median Aucti
 on Stakes (Plus 10/GBB Race)
DTSTART:20200811T152500
LOCATION:England
SUMMARY:Horse Racing:Follow BetVictor Racing On Twitter Fillies' Novice Med
 ian Auction Stakes (Plus 10/GBB Race)
END:VEVENT
END:VCALENDAR
