BEGIN:VCALENDAR
VERSION:2.0
PRODID:-//horsealert.local//NONSGML kigkonsult.se iCalcreator 2.10.5//
CALSCALE:GREGORIAN
X-WR-TIMEZONE:Europe/Dublin
BEGIN:VTIMEZONE
TZID:Etc/GMT-1
BEGIN:STANDARD
DTSTART:20010101T000000
TZOFFSETFROM:+0100
TZOFFSETTO:+0100
TZNAME:GMT +01:00
END:STANDARD
END:VTIMEZONE
BEGIN:VEVENT
UID:20260425T004440CEST-4655Pe73vk@horsealert.local
DTSTAMP:20260424T220440Z
CATEGORIES:Horse Alerts
DESCRIPTION:Hope Eden Racing Ownership Opportunities EBF Maiden Auction Sta
 kes
DTSTART:20200814T163500
LOCATION:Wales
SUMMARY:Horse Racing:Hope Eden Racing Ownership Opportunities EBF Maiden Au
 ction Stakes
END:VEVENT
END:VCALENDAR
