BEGIN:VCALENDAR
VERSION:2.0
PRODID:-//horsealert.local//NONSGML kigkonsult.se iCalcreator 2.10.5//
CALSCALE:GREGORIAN
X-WR-TIMEZONE:Europe/Dublin
BEGIN:VTIMEZONE
TZID:Etc/GMT-1
BEGIN:STANDARD
DTSTART:20010101T000000
TZOFFSETFROM:+0100
TZOFFSETTO:+0100
TZNAME:GMT +01:00
END:STANDARD
END:VTIMEZONE
BEGIN:VEVENT
UID:20260425T004634CEST-9562zBoLSb@horsealert.local
DTSTAMP:20260424T220434Z
CATEGORIES:Horse Alerts
DESCRIPTION:EBF Highfield Farm Flying Fillies' Stakes (Listed)
DTSTART:20200814T145000
LOCATION:England
SUMMARY:Horse Racing:EBF Highfield Farm Flying Fillies' Stakes (Listed)
END:VEVENT
END:VCALENDAR
