BEGIN:VCALENDAR
VERSION:2.0
PRODID:-//horsealert.local//NONSGML kigkonsult.se iCalcreator 2.10.5//
CALSCALE:GREGORIAN
X-WR-TIMEZONE:Europe/Dublin
BEGIN:VTIMEZONE
TZID:Etc/GMT-1
BEGIN:STANDARD
DTSTART:20010101T000000
TZOFFSETFROM:+0100
TZOFFSETTO:+0100
TZNAME:GMT +01:00
END:STANDARD
END:VTIMEZONE
BEGIN:VEVENT
UID:20260425T021507CEST-44349Ikohn@horsealert.local
DTSTAMP:20260425T000407Z
CATEGORIES:Horse Alerts
DESCRIPTION:Unibet Extra Race Offers Every Day Fillies' Novice Stakes (Plus
  10/GBB Race)
DTSTART:20200818T183000
LOCATION:England
SUMMARY:Horse Racing:Unibet Extra Race Offers Every Day Fillies' Novice Sta
 kes (Plus 10/GBB Race)
END:VEVENT
END:VCALENDAR
