BEGIN:VCALENDAR
VERSION:2.0
PRODID:-//horsealert.local//NONSGML kigkonsult.se iCalcreator 2.10.5//
CALSCALE:GREGORIAN
X-WR-TIMEZONE:Europe/Dublin
BEGIN:VTIMEZONE
TZID:Etc/GMT-1
BEGIN:STANDARD
DTSTART:20010101T000000
TZOFFSETFROM:+0100
TZOFFSETTO:+0100
TZNAME:GMT +01:00
END:STANDARD
END:VTIMEZONE
BEGIN:VEVENT
UID:20260425T004441CEST-3782kuzUxa@horsealert.local
DTSTAMP:20260424T220441Z
CATEGORIES:Horse Alerts
DESCRIPTION:Ladbrokes Supporting 'Children With Cancer UK' Fillies' Handica
 p
DTSTART:20200829T171500
LOCATION:England
SUMMARY:Horse Racing:Ladbrokes Supporting 'Children With Cancer UK' Fillies
 ' Handicap
END:VEVENT
END:VCALENDAR
