BEGIN:VCALENDAR
VERSION:2.0
PRODID:-//horsealert.local//NONSGML kigkonsult.se iCalcreator 2.10.5//
CALSCALE:GREGORIAN
X-WR-TIMEZONE:Europe/Dublin
BEGIN:VTIMEZONE
TZID:Etc/GMT-1
BEGIN:STANDARD
DTSTART:20010101T000000
TZOFFSETFROM:+0100
TZOFFSETTO:+0100
TZNAME:GMT +01:00
END:STANDARD
END:VTIMEZONE
BEGIN:VEVENT
UID:20260425T004452CEST-3131VxanEK@horsealert.local
DTSTAMP:20260424T220452Z
CATEGORIES:Horse Alerts
DESCRIPTION:Download The At The Races App Handicap (Str)
DTSTART:20200830T145000
LOCATION:England
SUMMARY:Horse Racing:Download The At The Races App Handicap (Str)
END:VEVENT
END:VCALENDAR
