BEGIN:VCALENDAR
VERSION:2.0
PRODID:-//horsealert.local//NONSGML kigkonsult.se iCalcreator 2.10.5//
CALSCALE:GREGORIAN
X-WR-TIMEZONE:Europe/Dublin
BEGIN:VTIMEZONE
TZID:Etc/GMT-1
BEGIN:STANDARD
DTSTART:20010101T000000
TZOFFSETFROM:+0100
TZOFFSETTO:+0100
TZNAME:GMT +01:00
END:STANDARD
END:VTIMEZONE
BEGIN:VEVENT
UID:20260425T052535CEST-8296eBXI3K@horsealert.local
DTSTAMP:20260425T030435Z
CATEGORIES:Horse Alerts
DESCRIPTION:Watch Free Race Replays On attheraces.com Maiden Hurdle (GBB Ra
 ce)
DTSTART:20200902T161500
LOCATION:England
SUMMARY:Horse Racing:Watch Free Race Replays On attheraces.com Maiden Hurdl
 e (GBB Race)
END:VEVENT
END:VCALENDAR
