BEGIN:VCALENDAR
VERSION:2.0
PRODID:-//horsealert.local//NONSGML kigkonsult.se iCalcreator 2.10.5//
CALSCALE:GREGORIAN
X-WR-TIMEZONE:Europe/Dublin
BEGIN:VTIMEZONE
TZID:Etc/GMT-1
BEGIN:STANDARD
DTSTART:20010101T000000
TZOFFSETFROM:+0100
TZOFFSETTO:+0100
TZNAME:GMT +01:00
END:STANDARD
END:VTIMEZONE
BEGIN:VEVENT
UID:20260425T004421CEST-3080XpvXAk@horsealert.local
DTSTAMP:20260424T220421Z
CATEGORIES:Horse Alerts
DESCRIPTION:Scorton Handicap
DTSTART:20200908T152500
LOCATION:England
SUMMARY:Horse Racing:Scorton Handicap
END:VEVENT
END:VCALENDAR
