BEGIN:VCALENDAR
VERSION:2.0
PRODID:-//horsealert.local//NONSGML kigkonsult.se iCalcreator 2.10.5//
CALSCALE:GREGORIAN
X-WR-TIMEZONE:Europe/Dublin
BEGIN:VTIMEZONE
TZID:Etc/GMT-1
BEGIN:STANDARD
DTSTART:20010101T000000
TZOFFSETFROM:+0100
TZOFFSETTO:+0100
TZNAME:GMT +01:00
END:STANDARD
END:VTIMEZONE
BEGIN:VEVENT
UID:20260425T004307CEST-6302un5HUf@horsealert.local
DTSTAMP:20260424T220407Z
CATEGORIES:Horse Alerts
DESCRIPTION:Next Racemeeting Durbanville 19 September 2020 Maiden Plate
DTSTART:20200914T153000
LOCATION:South Africa
SUMMARY:Horse Racing:Next Racemeeting Durbanville 19 September 2020 Maiden 
 Plate
END:VEVENT
END:VCALENDAR
