BEGIN:VCALENDAR
VERSION:2.0
PRODID:-//horsealert.local//NONSGML kigkonsult.se iCalcreator 2.10.5//
CALSCALE:GREGORIAN
X-WR-TIMEZONE:Europe/Dublin
BEGIN:VTIMEZONE
TZID:Etc/GMT-1
BEGIN:STANDARD
DTSTART:20010101T000000
TZOFFSETFROM:+0100
TZOFFSETTO:+0100
TZNAME:GMT +01:00
END:STANDARD
END:VTIMEZONE
BEGIN:VEVENT
UID:20260425T004612CEST-3080ViAktr@horsealert.local
DTSTAMP:20260424T220412Z
CATEGORIES:Horse Alerts
DESCRIPTION:Welcome To Durbanville Maiden Plate
DTSTART:20200926T105500
LOCATION:South Africa
SUMMARY:Horse Racing:Welcome To Durbanville Maiden Plate
END:VEVENT
END:VCALENDAR
