BEGIN:VCALENDAR
VERSION:2.0
PRODID:-//horsealert.local//NONSGML kigkonsult.se iCalcreator 2.10.5//
CALSCALE:GREGORIAN
X-WR-TIMEZONE:Europe/Dublin
BEGIN:VTIMEZONE
TZID:Etc/GMT-1
BEGIN:STANDARD
DTSTART:20010101T000000
TZOFFSETFROM:+0100
TZOFFSETTO:+0100
TZNAME:GMT +01:00
END:STANDARD
END:VTIMEZONE
BEGIN:VEVENT
UID:20260425T004304CEST-3554Pe1H6K@horsealert.local
DTSTAMP:20260424T220404Z
CATEGORIES:Horse Alerts
DESCRIPTION:Follow Star Sports On Twitter At Starsports_Bet Apprentice Derb
 y Handicap (Div 2)
DTSTART:20200927T155000
LOCATION:England
SUMMARY:Horse Racing:Follow Star Sports On Twitter At Starsports_Bet Appren
 tice Derby Handicap (Div 2)
END:VEVENT
END:VCALENDAR
