BEGIN:VCALENDAR
VERSION:2.0
PRODID:-//horsealert.local//NONSGML kigkonsult.se iCalcreator 2.10.5//
CALSCALE:GREGORIAN
X-WR-TIMEZONE:Europe/Dublin
BEGIN:VTIMEZONE
TZID:Etc/GMT-1
BEGIN:STANDARD
DTSTART:20010101T000000
TZOFFSETFROM:+0100
TZOFFSETTO:+0100
TZNAME:GMT +01:00
END:STANDARD
END:VTIMEZONE
BEGIN:VEVENT
UID:20260425T010359CEST-3004ELGSHr@horsealert.local
DTSTAMP:20260424T230459Z
CATEGORIES:Horse Alerts
DESCRIPTION:Free Daily Horse Racing Tips At tipstersempire.co.uk Handicap H
 urdle
DTSTART:20201008T152000
LOCATION:Wales
SUMMARY:Horse Racing:Free Daily Horse Racing Tips At tipstersempire.co.uk H
 andicap Hurdle
END:VEVENT
END:VCALENDAR
