BEGIN:VCALENDAR
VERSION:2.0
PRODID:-//horsealert.local//NONSGML kigkonsult.se iCalcreator 2.10.5//
CALSCALE:GREGORIAN
X-WR-TIMEZONE:Europe/Dublin
BEGIN:VTIMEZONE
TZID:Etc/GMT-1
BEGIN:STANDARD
DTSTART:20010101T000000
TZOFFSETFROM:+0100
TZOFFSETTO:+0100
TZNAME:GMT +01:00
END:STANDARD
END:VTIMEZONE
BEGIN:VEVENT
UID:20260425T010238CEST-0722XURFN1@horsealert.local
DTSTAMP:20260424T230438Z
CATEGORIES:Horse Alerts
DESCRIPTION:October Family Staycations At Western House Hotel Handicap
DTSTART:20201008T141000
LOCATION:Scotland
SUMMARY:Horse Racing:October Family Staycations At Western House Hotel Hand
 icap
END:VEVENT
END:VCALENDAR
