BEGIN:VCALENDAR
VERSION:2.0
PRODID:-//horsealert.local//NONSGML kigkonsult.se iCalcreator 2.10.5//
CALSCALE:GREGORIAN
X-WR-TIMEZONE:Europe/Dublin
BEGIN:VTIMEZONE
TZID:Etc/GMT-1
BEGIN:STANDARD
DTSTART:20010101T000000
TZOFFSETFROM:+0100
TZOFFSETTO:+0100
TZNAME:GMT +01:00
END:STANDARD
END:VTIMEZONE
BEGIN:VEVENT
UID:20260425T004418CEST-3977WKs22v@horsealert.local
DTSTAMP:20260424T220418Z
CATEGORIES:Horse Alerts
DESCRIPTION:Bob Champion Cancer Trust Novices' Handicap Hurdle
DTSTART:20201019T151000
LOCATION:England
SUMMARY:Horse Racing:Bob Champion Cancer Trust Novices' Handicap Hurdle
END:VEVENT
END:VCALENDAR
