BEGIN:VCALENDAR
VERSION:2.0
PRODID:-//horsealert.local//NONSGML kigkonsult.se iCalcreator 2.10.5//
CALSCALE:GREGORIAN
X-WR-TIMEZONE:Europe/Dublin
BEGIN:VTIMEZONE
TZID:Etc/GMT-1
BEGIN:STANDARD
DTSTART:20010101T000000
TZOFFSETFROM:+0100
TZOFFSETTO:+0100
TZNAME:GMT +01:00
END:STANDARD
END:VTIMEZONE
BEGIN:VEVENT
UID:20260424T195943CEST-8029tv9o5h@horsealert.local
DTSTAMP:20260424T170443Z
CATEGORIES:Horse Alerts
DESCRIPTION:MansionBet Bet 10 Get 20 Handicap Chase (Div 1)
DTSTART:20201101T152700
LOCATION:England
SUMMARY:Horse Racing:MansionBet Bet 10 Get 20 Handicap Chase (Div 1)
END:VEVENT
END:VCALENDAR
