BEGIN:VCALENDAR
VERSION:2.0
PRODID:-//horsealert.local//NONSGML kigkonsult.se iCalcreator 2.10.5//
CALSCALE:GREGORIAN
X-WR-TIMEZONE:Europe/Dublin
BEGIN:VTIMEZONE
TZID:Etc/GMT-1
BEGIN:STANDARD
DTSTART:20010101T000000
TZOFFSETFROM:+0100
TZOFFSETTO:+0100
TZNAME:GMT +01:00
END:STANDARD
END:VTIMEZONE
BEGIN:VEVENT
UID:20260424T195937CEST-0660L9X7uS@horsealert.local
DTSTAMP:20260424T170437Z
CATEGORIES:Horse Alerts
DESCRIPTION:tote Placepot Your First Bet Nursery
DTSTART:20201105T164500
LOCATION:England
SUMMARY:Horse Racing:tote Placepot Your First Bet Nursery
END:VEVENT
END:VCALENDAR
