BEGIN:VCALENDAR
VERSION:2.0
PRODID:-//horsealert.local//NONSGML kigkonsult.se iCalcreator 2.10.5//
CALSCALE:GREGORIAN
X-WR-TIMEZONE:Europe/Dublin
BEGIN:VTIMEZONE
TZID:Etc/GMT-1
BEGIN:STANDARD
DTSTART:20010101T000000
TZOFFSETFROM:+0100
TZOFFSETTO:+0100
TZNAME:GMT +01:00
END:STANDARD
END:VTIMEZONE
BEGIN:VEVENT
UID:20260424T195750CEST-5005fNA62a@horsealert.local
DTSTAMP:20260424T170450Z
CATEGORIES:Horse Alerts
DESCRIPTION:Champion 3 Yr Old Colt/Gelding: Got The Greenlight Progress Pla
 te
DTSTART:20201107T114000
LOCATION:South Africa
SUMMARY:Horse Racing:Champion 3 Yr Old Colt/Gelding: Got The Greenlight Pro
 gress Plate
END:VEVENT
END:VCALENDAR
