BEGIN:VCALENDAR
VERSION:2.0
PRODID:-//horsealert.local//NONSGML kigkonsult.se iCalcreator 2.10.5//
CALSCALE:GREGORIAN
X-WR-TIMEZONE:Europe/Dublin
BEGIN:VTIMEZONE
TZID:Etc/GMT-1
BEGIN:STANDARD
DTSTART:20010101T000000
TZOFFSETFROM:+0100
TZOFFSETTO:+0100
TZNAME:GMT +01:00
END:STANDARD
END:VTIMEZONE
BEGIN:VEVENT
UID:20260424T200031CEST-4957j56E1a@horsealert.local
DTSTAMP:20260424T180431Z
CATEGORIES:Horse Alerts
DESCRIPTION:Rose Loxton Looked After Big Bucks Standard Open NH Flat Race (
 GBB Race)
DTSTART:20201109T161500
LOCATION:Wales
SUMMARY:Horse Racing:Rose Loxton Looked After Big Bucks Standard Open NH Fl
 at Race (GBB Race)
END:VEVENT
END:VCALENDAR
