BEGIN:VCALENDAR
VERSION:2.0
PRODID:-//horsealert.local//NONSGML kigkonsult.se iCalcreator 2.10.5//
CALSCALE:GREGORIAN
X-WR-TIMEZONE:Europe/Dublin
BEGIN:VTIMEZONE
TZID:Etc/GMT-1
BEGIN:STANDARD
DTSTART:20010101T000000
TZOFFSETFROM:+0100
TZOFFSETTO:+0100
TZNAME:GMT +01:00
END:STANDARD
END:VTIMEZONE
BEGIN:VEVENT
UID:20260425T010318CEST-1509vkT6PI@horsealert.local
DTSTAMP:20260424T230418Z
CATEGORIES:Horse Alerts
DESCRIPTION:Next Vaal Racemeeting Saturday 5 December Mr 80 Handicap
DTSTART:20201126T150000
LOCATION:South Africa
SUMMARY:Horse Racing:Next Vaal Racemeeting Saturday 5 December Mr 80 Handic
 ap
END:VEVENT
END:VCALENDAR
