BEGIN:VCALENDAR
VERSION:2.0
PRODID:-//horsealert.local//NONSGML kigkonsult.se iCalcreator 2.10.5//
CALSCALE:GREGORIAN
X-WR-TIMEZONE:Europe/Dublin
BEGIN:VTIMEZONE
TZID:Etc/GMT-1
BEGIN:STANDARD
DTSTART:20010101T000000
TZOFFSETFROM:+0100
TZOFFSETTO:+0100
TZNAME:GMT +01:00
END:STANDARD
END:VTIMEZONE
BEGIN:VEVENT
UID:20260424T195616CEST-9053d4MIG1@horsealert.local
DTSTAMP:20260424T170416Z
CATEGORIES:Horse Alerts
DESCRIPTION:Sky Sports Racing HD Virgin 535 Standard NH Flat Race (Conditio
 nal Jockeys And Amateur Riders)
DTSTART:20201201T133000
LOCATION:England
SUMMARY:Horse Racing:Sky Sports Racing HD Virgin 535 Standard NH Flat Race 
 (Conditional Jockeys And Amateur Riders)
END:VEVENT
END:VCALENDAR
