BEGIN:VCALENDAR
VERSION:2.0
PRODID:-//horsealert.local//NONSGML kigkonsult.se iCalcreator 2.10.5//
CALSCALE:GREGORIAN
X-WR-TIMEZONE:Europe/Dublin
BEGIN:VTIMEZONE
TZID:Etc/GMT-1
BEGIN:STANDARD
DTSTART:20010101T000000
TZOFFSETFROM:+0100
TZOFFSETTO:+0100
TZNAME:GMT +01:00
END:STANDARD
END:VTIMEZONE
BEGIN:VEVENT
UID:20260424T195455CEST-2484xCcjV5@horsealert.local
DTSTAMP:20260424T170455Z
CATEGORIES:Horse Alerts
DESCRIPTION:VoteHollie Sports Personality Of The Year Mares' Handicap Chase
DTSTART:20201220T145000
LOCATION:England
SUMMARY:Horse Racing:VoteHollie Sports Personality Of The Year Mares' Handi
 cap Chase
END:VEVENT
END:VCALENDAR
