BEGIN:VCALENDAR
VERSION:2.0
PRODID:-//horsealert.local//NONSGML kigkonsult.se iCalcreator 2.10.5//
CALSCALE:GREGORIAN
X-WR-TIMEZONE:Europe/Dublin
BEGIN:VTIMEZONE
TZID:Etc/GMT-1
BEGIN:STANDARD
DTSTART:20010101T000000
TZOFFSETFROM:+0100
TZOFFSETTO:+0100
TZNAME:GMT +01:00
END:STANDARD
END:VTIMEZONE
BEGIN:VEVENT
UID:20260422T115254CEST-0013oarE7S@horsealert.local
DTSTAMP:20260422T090454Z
CATEGORIES:Horse Alerts
DESCRIPTION:Bombardier Conditions Stakes (All-Weather Championships Fast-Tr
 ack Qualifier)
DTSTART:20210112T173000
LOCATION:England
SUMMARY:Horse Racing:Bombardier Conditions Stakes (All-Weather Championship
 s Fast-Track Qualifier)
END:VEVENT
END:VCALENDAR
