BEGIN:VCALENDAR
VERSION:2.0
PRODID:-//horsealert.local//NONSGML kigkonsult.se iCalcreator 2.10.5//
CALSCALE:GREGORIAN
X-WR-TIMEZONE:Europe/Dublin
BEGIN:VTIMEZONE
TZID:Etc/GMT-1
BEGIN:STANDARD
DTSTART:20010101T000000
TZOFFSETFROM:+0100
TZOFFSETTO:+0100
TZNAME:GMT +01:00
END:STANDARD
END:VTIMEZONE
BEGIN:VEVENT
UID:20260422T105005CEST-49680UGX25@horsealert.local
DTSTAMP:20260422T080405Z
CATEGORIES:Horse Alerts
DESCRIPTION:Here Comes McCoy 'Newcomers' Standard Open NH Flat Race (GBB Ra
 ce)
DTSTART:20210116T160500
LOCATION:England
SUMMARY:Horse Racing:Here Comes McCoy 'Newcomers' Standard Open NH Flat Rac
 e (GBB Race)
END:VEVENT
END:VCALENDAR
