BEGIN:VCALENDAR
VERSION:2.0
PRODID:-//horsealert.local//NONSGML kigkonsult.se iCalcreator 2.10.5//
CALSCALE:GREGORIAN
X-WR-TIMEZONE:Europe/Dublin
BEGIN:VTIMEZONE
TZID:Etc/GMT-1
BEGIN:STANDARD
DTSTART:20010101T000000
TZOFFSETFROM:+0100
TZOFFSETTO:+0100
TZNAME:GMT +01:00
END:STANDARD
END:VTIMEZONE
BEGIN:VEVENT
UID:20260422T104652CEST-3183FwJ6VD@horsealert.local
DTSTAMP:20260422T080452Z
CATEGORIES:Horse Alerts
DESCRIPTION:'Off The Fence' On youtube.com/attheraces 'Jumpers' Bumper' NH 
 Flat Race
DTSTART:20210118T142000
LOCATION:England
SUMMARY:Horse Racing:'Off The Fence' On youtube.com/attheraces 'Jumpers' Bu
 mper' NH Flat Race
END:VEVENT
END:VCALENDAR
