BEGIN:VCALENDAR
VERSION:2.0
PRODID:-//horsealert.local//NONSGML kigkonsult.se iCalcreator 2.10.5//
CALSCALE:GREGORIAN
X-WR-TIMEZONE:Europe/Dublin
BEGIN:VTIMEZONE
TZID:Etc/GMT-1
BEGIN:STANDARD
DTSTART:20010101T000000
TZOFFSETFROM:+0100
TZOFFSETTO:+0100
TZNAME:GMT +01:00
END:STANDARD
END:VTIMEZONE
BEGIN:VEVENT
UID:20260422T120316CEST-4246e8kxxs@horsealert.local
DTSTAMP:20260422T100416Z
CATEGORIES:Horse Alerts
DESCRIPTION:Wilkinstown Beginners Chase
DTSTART:20210123T150700
LOCATION:Eire
SUMMARY:Horse Racing:Wilkinstown Beginners Chase
END:VEVENT
END:VCALENDAR
