BEGIN:VCALENDAR
VERSION:2.0
PRODID:-//horsealert.local//NONSGML kigkonsult.se iCalcreator 2.10.5//
CALSCALE:GREGORIAN
X-WR-TIMEZONE:Europe/Dublin
BEGIN:VTIMEZONE
TZID:Etc/GMT-1
BEGIN:STANDARD
DTSTART:20010101T000000
TZOFFSETFROM:+0100
TZOFFSETTO:+0100
TZNAME:GMT +01:00
END:STANDARD
END:VTIMEZONE
BEGIN:VEVENT
UID:20260422T072303CEST-44663V1Np8@horsealert.local
DTSTAMP:20260422T050403Z
CATEGORIES:Horse Alerts
DESCRIPTION:Easter Festival 3rd - 5th April Handicap Hurdle (80-95) (Div 1)
DTSTART:20210305T165000
LOCATION:Eire
SUMMARY:Horse Racing:Easter Festival 3rd - 5th April Handicap Hurdle (80-95
 ) (Div 1)
END:VEVENT
END:VCALENDAR
