BEGIN:VCALENDAR
VERSION:2.0
PRODID:-//horsealert.local//NONSGML kigkonsult.se iCalcreator 2.10.5//
CALSCALE:GREGORIAN
X-WR-TIMEZONE:Europe/Dublin
BEGIN:VTIMEZONE
TZID:Etc/GMT-1
BEGIN:STANDARD
DTSTART:20010101T000000
TZOFFSETFROM:+0100
TZOFFSETTO:+0100
TZNAME:GMT +01:00
END:STANDARD
END:VTIMEZONE
BEGIN:VEVENT
UID:20260422T072425CEST-8001EEoI0R@horsealert.local
DTSTAMP:20260422T050425Z
CATEGORIES:Horse Alerts
DESCRIPTION:Paxtons Covered By Romero Insurance Conditional Jockeys' Handic
 ap Chase
DTSTART:20210307T163000
LOCATION:England
SUMMARY:Horse Racing:Paxtons Covered By Romero Insurance Conditional Jockey
 s' Handicap Chase
END:VEVENT
END:VCALENDAR
