BEGIN:VCALENDAR
VERSION:2.0
PRODID:-//horsealert.local//NONSGML kigkonsult.se iCalcreator 2.10.5//
CALSCALE:GREGORIAN
X-WR-TIMEZONE:Europe/Dublin
BEGIN:VTIMEZONE
TZID:Etc/GMT-1
BEGIN:STANDARD
DTSTART:20010101T000000
TZOFFSETFROM:+0100
TZOFFSETTO:+0100
TZNAME:GMT +01:00
END:STANDARD
END:VTIMEZONE
BEGIN:VEVENT
UID:20260422T071856CEST-6808e8TZia@horsealert.local
DTSTAMP:20260422T050456Z
CATEGORIES:Horse Alerts
DESCRIPTION:'Off The Fence' On youtube.com/attheraces Handicap Chase
DTSTART:20210316T142000
LOCATION:England
SUMMARY:Horse Racing:'Off The Fence' On youtube.com/attheraces Handicap Cha
 se
END:VEVENT
END:VCALENDAR
