BEGIN:VCALENDAR
VERSION:2.0
PRODID:-//horsealert.local//NONSGML kigkonsult.se iCalcreator 2.10.5//
CALSCALE:GREGORIAN
X-WR-TIMEZONE:Europe/Dublin
BEGIN:VTIMEZONE
TZID:Etc/GMT-1
BEGIN:STANDARD
DTSTART:20010101T000000
TZOFFSETFROM:+0100
TZOFFSETTO:+0100
TZNAME:GMT +01:00
END:STANDARD
END:VTIMEZONE
BEGIN:VEVENT
UID:20260422T042342CEST-5914ruumSN@horsealert.local
DTSTAMP:20260422T020442Z
CATEGORIES:Horse Alerts
DESCRIPTION:mylittletip.co.uk Sussex Champion Hurdle (Handicap Hurdle) (GBB
  Race)
DTSTART:20210404T152600
LOCATION:England
SUMMARY:Horse Racing:mylittletip.co.uk Sussex Champion Hurdle (Handicap Hur
 dle) (GBB Race)
END:VEVENT
END:VCALENDAR
