BEGIN:VCALENDAR
VERSION:2.0
PRODID:-//horsealert.local//NONSGML kigkonsult.se iCalcreator 2.10.5//
CALSCALE:GREGORIAN
X-WR-TIMEZONE:Europe/Dublin
BEGIN:VTIMEZONE
TZID:Etc/GMT-1
BEGIN:STANDARD
DTSTART:20010101T000000
TZOFFSETFROM:+0100
TZOFFSETTO:+0100
TZNAME:GMT +01:00
END:STANDARD
END:VTIMEZONE
BEGIN:VEVENT
UID:20260422T023546CEST-3237C98DFj@horsealert.local
DTSTAMP:20260422T000446Z
CATEGORIES:Horse Alerts
DESCRIPTION:Conseil General Stakes
DTSTART:20210409T103500
LOCATION:France
SUMMARY:Horse Racing:Conseil General Stakes
END:VEVENT
END:VCALENDAR
