BEGIN:VCALENDAR
VERSION:2.0
PRODID:-//horsealert.local//NONSGML kigkonsult.se iCalcreator 2.10.5//
CALSCALE:GREGORIAN
X-WR-TIMEZONE:Europe/Dublin
BEGIN:VTIMEZONE
TZID:Etc/GMT-1
BEGIN:STANDARD
DTSTART:20010101T000000
TZOFFSETFROM:+0100
TZOFFSETTO:+0100
TZNAME:GMT +01:00
END:STANDARD
END:VTIMEZONE
BEGIN:VEVENT
UID:20260422T023226CEST-2430eboBZc@horsealert.local
DTSTAMP:20260422T000426Z
CATEGORIES:Horse Alerts
DESCRIPTION:Killeen Sportsgrounds (C & G) Maiden Hurdle
DTSTART:20210416T165500
LOCATION:Eire
SUMMARY:Horse Racing:Killeen Sportsgrounds (C & G) Maiden Hurdle
END:VEVENT
END:VCALENDAR
