BEGIN:VCALENDAR
VERSION:2.0
PRODID:-//horsealert.local//NONSGML kigkonsult.se iCalcreator 2.10.5//
CALSCALE:GREGORIAN
X-WR-TIMEZONE:Europe/Dublin
BEGIN:VTIMEZONE
TZID:Etc/GMT-1
BEGIN:STANDARD
DTSTART:20010101T000000
TZOFFSETFROM:+0100
TZOFFSETTO:+0100
TZNAME:GMT +01:00
END:STANDARD
END:VTIMEZONE
BEGIN:VEVENT
UID:20260422T005121CEST-8829mjuSVN@horsealert.local
DTSTAMP:20260421T220421Z
CATEGORIES:Horse Alerts
DESCRIPTION:Qipco 2000 Guineas Stakes (Group 1) (British Champions Series)
DTSTART:20210501T154000
LOCATION:England
SUMMARY:Horse Racing:Qipco 2000 Guineas Stakes (Group 1) (British Champions
  Series)
END:VEVENT
END:VCALENDAR
