BEGIN:VCALENDAR
VERSION:2.0
PRODID:-//horsealert.local//NONSGML kigkonsult.se iCalcreator 2.10.5//
CALSCALE:GREGORIAN
X-WR-TIMEZONE:Europe/Dublin
BEGIN:VTIMEZONE
TZID:Etc/GMT-1
BEGIN:STANDARD
DTSTART:20010101T000000
TZOFFSETFROM:+0100
TZOFFSETTO:+0100
TZNAME:GMT +01:00
END:STANDARD
END:VTIMEZONE
BEGIN:VEVENT
UID:20260422T005126CEST-9120v1rP1z@horsealert.local
DTSTAMP:20260421T220426Z
CATEGORIES:Horse Alerts
DESCRIPTION:Coq Chantant Maiden Stakes
DTSTART:20210511T125000
LOCATION:France
SUMMARY:Horse Racing:Coq Chantant Maiden Stakes
END:VEVENT
END:VCALENDAR
