BEGIN:VCALENDAR
VERSION:2.0
PRODID:-//horsealert.local//NONSGML kigkonsult.se iCalcreator 2.10.5//
CALSCALE:GREGORIAN
X-WR-TIMEZONE:Europe/Dublin
BEGIN:VTIMEZONE
TZID:Etc/GMT-1
BEGIN:STANDARD
DTSTART:20010101T000000
TZOFFSETFROM:+0100
TZOFFSETTO:+0100
TZNAME:GMT +01:00
END:STANDARD
END:VTIMEZONE
BEGIN:VEVENT
UID:20260422T042344CEST-798153dHkp@horsealert.local
DTSTAMP:20260422T020444Z
CATEGORIES:Horse Alerts
DESCRIPTION:Come Racing On The 22nd May Mares' Novices' Selling Hurdle
DTSTART:20210516T151700
LOCATION:England
SUMMARY:Horse Racing:Come Racing On The 22nd May Mares' Novices' Selling Hu
 rdle
END:VEVENT
END:VCALENDAR
