BEGIN:VCALENDAR
VERSION:2.0
PRODID:-//horsealert.local//NONSGML kigkonsult.se iCalcreator 2.10.5//
CALSCALE:GREGORIAN
X-WR-TIMEZONE:Europe/Dublin
BEGIN:VTIMEZONE
TZID:Etc/GMT-1
BEGIN:STANDARD
DTSTART:20010101T000000
TZOFFSETFROM:+0100
TZOFFSETTO:+0100
TZNAME:GMT +01:00
END:STANDARD
END:VTIMEZONE
BEGIN:VEVENT
UID:20260422T005053CEST-1803fL3JP5@horsealert.local
DTSTAMP:20260421T220453Z
CATEGORIES:Horse Alerts
DESCRIPTION:1st The Queen's Dragoon Guards (For The Prince Of Wales Cup) Ha
 ndicap Chase
DTSTART:20210523T150500
LOCATION:England
SUMMARY:Horse Racing:1st The Queen's Dragoon Guards (For The Prince Of Wale
 s Cup) Handicap Chase
END:VEVENT
END:VCALENDAR
