BEGIN:VCALENDAR
VERSION:2.0
PRODID:-//horsealert.local//NONSGML kigkonsult.se iCalcreator 2.10.5//
CALSCALE:GREGORIAN
X-WR-TIMEZONE:Europe/Dublin
BEGIN:VTIMEZONE
TZID:Etc/GMT-1
BEGIN:STANDARD
DTSTART:20010101T000000
TZOFFSETFROM:+0100
TZOFFSETTO:+0100
TZNAME:GMT +01:00
END:STANDARD
END:VTIMEZONE
BEGIN:VEVENT
UID:20260422T005001CEST-1583CrVEah@horsealert.local
DTSTAMP:20260421T220401Z
CATEGORIES:Horse Alerts
DESCRIPTION:Prix Alain Du Breil - Course De Hais Printemps Des Quarte - Hur
 dle Grade 1
DTSTART:20210523T154500
LOCATION:France
SUMMARY:Horse Racing:Prix Alain Du Breil - Course De Hais Printemps Des Qua
 rte - Hurdle Grade 1
END:VEVENT
END:VCALENDAR
